BEGIN:VCALENDAR
VERSION:2.0
PRODID:-//HRHQ - ECPv6.15.20//NONSGML v1.0//EN
CALSCALE:GREGORIAN
METHOD:PUBLISH
X-ORIGINAL-URL:https://yourhrhq.co.nz
X-WR-CALDESC:Events for HRHQ
REFRESH-INTERVAL;VALUE=DURATION:PT1H
X-Robots-Tag:noindex
X-PUBLISHED-TTL:PT1H
BEGIN:VTIMEZONE
TZID:Pacific/Auckland
BEGIN:STANDARD
TZOFFSETFROM:+1300
TZOFFSETTO:+1200
TZNAME:NZST
DTSTART:20250405T140000
END:STANDARD
BEGIN:DAYLIGHT
TZOFFSETFROM:+1200
TZOFFSETTO:+1300
TZNAME:NZDT
DTSTART:20250927T140000
END:DAYLIGHT
BEGIN:STANDARD
TZOFFSETFROM:+1300
TZOFFSETTO:+1200
TZNAME:NZST
DTSTART:20260404T140000
END:STANDARD
BEGIN:DAYLIGHT
TZOFFSETFROM:+1200
TZOFFSETTO:+1300
TZNAME:NZDT
DTSTART:20260926T140000
END:DAYLIGHT
BEGIN:STANDARD
TZOFFSETFROM:+1300
TZOFFSETTO:+1200
TZNAME:NZST
DTSTART:20270403T140000
END:STANDARD
BEGIN:DAYLIGHT
TZOFFSETFROM:+1200
TZOFFSETTO:+1300
TZNAME:NZDT
DTSTART:20270925T140000
END:DAYLIGHT
END:VTIMEZONE
BEGIN:VEVENT
DTSTART;TZID=Pacific/Auckland:20260429T140000
DTEND;TZID=Pacific/Auckland:20260429T143000
DTSTAMP:20260425T230602
CREATED:20260317T202456Z
LAST-MODIFIED:20260317T202456Z
UID:22528-1777471200-1777473000@yourhrhq.co.nz
SUMMARY:Bounce-off session
DESCRIPTION:Oops\, you don't have access to this page! 😬 \n  \n  \n  \n            \n\n                       \n            \n        \n                              Username\n        \n        \n      \n      \n        \n          Password\n          \n            \n            \n              \n            \n          \n        \n      \n            \n         Remember Me\n      \n       \n      \n        \n        \n        \n        \n      \n    \n     \n    \n        \n          Forgot Password
URL:https://yourhrhq.co.nz/event/bounce-off-session-65/
CATEGORIES:Bounce off
ATTACH;FMTTYPE=image/png:https://yourhrhq.co.nz/wp-content/uploads/2024/09/Event-thumbnails-43.png
END:VEVENT
END:VCALENDAR